BEGIN:VCALENDAR
VERSION:2.0
PRODID:-//LFV Sachsen - ECPv6.15.15//NONSGML v1.0//EN
CALSCALE:GREGORIAN
METHOD:PUBLISH
X-WR-CALNAME:LFV Sachsen
X-ORIGINAL-URL:https://lfv-sachsen.de
X-WR-CALDESC:Veranstaltungen für LFV Sachsen
REFRESH-INTERVAL;VALUE=DURATION:PT1H
X-Robots-Tag:noindex
X-PUBLISHED-TTL:PT1H
BEGIN:VTIMEZONE
TZID:Europe/Berlin
BEGIN:DAYLIGHT
TZOFFSETFROM:+0100
TZOFFSETTO:+0200
TZNAME:CEST
DTSTART:20250330T010000
END:DAYLIGHT
BEGIN:STANDARD
TZOFFSETFROM:+0200
TZOFFSETTO:+0100
TZNAME:CET
DTSTART:20251026T010000
END:STANDARD
BEGIN:DAYLIGHT
TZOFFSETFROM:+0100
TZOFFSETTO:+0200
TZNAME:CEST
DTSTART:20260329T010000
END:DAYLIGHT
BEGIN:STANDARD
TZOFFSETFROM:+0200
TZOFFSETTO:+0100
TZNAME:CET
DTSTART:20261025T010000
END:STANDARD
BEGIN:DAYLIGHT
TZOFFSETFROM:+0100
TZOFFSETTO:+0200
TZNAME:CEST
DTSTART:20270328T010000
END:DAYLIGHT
BEGIN:STANDARD
TZOFFSETFROM:+0200
TZOFFSETTO:+0100
TZNAME:CET
DTSTART:20271031T010000
END:STANDARD
END:VTIMEZONE
BEGIN:VEVENT
DTSTART;VALUE=DATE:20260425
DTEND;VALUE=DATE:20260426
DTSTAMP:20260425T124007
CREATED:20260121T085814Z
LAST-MODIFIED:20260121T085814Z
UID:16353-1777075200-1777161599@lfv-sachsen.de
SUMMARY:Deutschland-Cup
DESCRIPTION:Nudersdorf (LFV Sachsen-Anhalt)
URL:https://lfv-sachsen.de/veranstaltungen-lfv/deutschland-cup-2/
CATEGORIES:Allgemein,FB Wettbewerbe,Öffentliche Veranstaltungen
END:VEVENT
BEGIN:VEVENT
DTSTART;VALUE=DATE:20260425
DTEND;VALUE=DATE:20260426
DTSTAMP:20260425T124007
CREATED:20260305T095627Z
LAST-MODIFIED:20260305T095627Z
UID:16521-1777075200-1777161599@lfv-sachsen.de
SUMMARY:4. Frühlingsfest und Oldtimertreffen
DESCRIPTION:FF Neichen\, Kleine Bahnhofstr. 5\,\n04687 Trebsen – OT Neichen
URL:https://lfv-sachsen.de/veranstaltungen-lfv/4-fruehlingsfest-und-oldtimertreffen/
CATEGORIES:Allgemein,FB Historik,Öffentliche Veranstaltungen
END:VEVENT
BEGIN:VEVENT
DTSTART;VALUE=DATE:20260425
DTEND;VALUE=DATE:20260426
DTSTAMP:20260425T124007
CREATED:20260305T095700Z
LAST-MODIFIED:20260305T095700Z
UID:16523-1777075200-1777161599@lfv-sachsen.de
SUMMARY:5. Ziegenhainer Oldtimertreffen
DESCRIPTION:01683 Nossen – OT-Ziegenhain
URL:https://lfv-sachsen.de/veranstaltungen-lfv/5-ziegenhainer-oldtimertreffen/
CATEGORIES:Allgemein,FB Historik,Öffentliche Veranstaltungen
END:VEVENT
END:VCALENDAR