BEGIN:VCALENDAR
VERSION:2.0
PRODID:-//LFV Sachsen - ECPv6.15.15//NONSGML v1.0//EN
CALSCALE:GREGORIAN
METHOD:PUBLISH
X-WR-CALNAME:LFV Sachsen
X-ORIGINAL-URL:https://lfv-sachsen.de
X-WR-CALDESC:Veranstaltungen für LFV Sachsen
REFRESH-INTERVAL;VALUE=DURATION:PT1H
X-Robots-Tag:noindex
X-PUBLISHED-TTL:PT1H
BEGIN:VTIMEZONE
TZID:Europe/Berlin
BEGIN:DAYLIGHT
TZOFFSETFROM:+0100
TZOFFSETTO:+0200
TZNAME:CEST
DTSTART:20250330T010000
END:DAYLIGHT
BEGIN:STANDARD
TZOFFSETFROM:+0200
TZOFFSETTO:+0100
TZNAME:CET
DTSTART:20251026T010000
END:STANDARD
BEGIN:DAYLIGHT
TZOFFSETFROM:+0100
TZOFFSETTO:+0200
TZNAME:CEST
DTSTART:20260329T010000
END:DAYLIGHT
BEGIN:STANDARD
TZOFFSETFROM:+0200
TZOFFSETTO:+0100
TZNAME:CET
DTSTART:20261025T010000
END:STANDARD
BEGIN:DAYLIGHT
TZOFFSETFROM:+0100
TZOFFSETTO:+0200
TZNAME:CEST
DTSTART:20270328T010000
END:DAYLIGHT
BEGIN:STANDARD
TZOFFSETFROM:+0200
TZOFFSETTO:+0100
TZNAME:CET
DTSTART:20271031T010000
END:STANDARD
END:VTIMEZONE
BEGIN:VEVENT
DTSTART;VALUE=DATE:20260426
DTEND;VALUE=DATE:20260427
DTSTAMP:20260426T013959
CREATED:20260305T100004Z
LAST-MODIFIED:20260305T100004Z
UID:16525-1777161600-1777247999@lfv-sachsen.de
SUMMARY:17. Oldtimertreffen mit Ausfahrt am Quellenhof
DESCRIPTION:04618 Garbisdorf
URL:https://lfv-sachsen.de/veranstaltungen-lfv/17-oldtimertreffen-mit-ausfahrt-am-quellenhof/
CATEGORIES:Allgemein,FB Historik,Öffentliche Veranstaltungen
END:VEVENT
END:VCALENDAR