BEGIN:VCALENDAR
VERSION:2.0
PRODID:-//LFV Sachsen - ECPv6.15.15//NONSGML v1.0//EN
CALSCALE:GREGORIAN
METHOD:PUBLISH
X-ORIGINAL-URL:https://lfv-sachsen.de
X-WR-CALDESC:Veranstaltungen für LFV Sachsen
REFRESH-INTERVAL;VALUE=DURATION:PT1H
X-Robots-Tag:noindex
X-PUBLISHED-TTL:PT1H
BEGIN:VTIMEZONE
TZID:Europe/Berlin
BEGIN:DAYLIGHT
TZOFFSETFROM:+0100
TZOFFSETTO:+0200
TZNAME:CEST
DTSTART:20210328T010000
END:DAYLIGHT
BEGIN:STANDARD
TZOFFSETFROM:+0200
TZOFFSETTO:+0100
TZNAME:CET
DTSTART:20211031T010000
END:STANDARD
BEGIN:DAYLIGHT
TZOFFSETFROM:+0100
TZOFFSETTO:+0200
TZNAME:CEST
DTSTART:20220327T010000
END:DAYLIGHT
BEGIN:STANDARD
TZOFFSETFROM:+0200
TZOFFSETTO:+0100
TZNAME:CET
DTSTART:20221030T010000
END:STANDARD
BEGIN:DAYLIGHT
TZOFFSETFROM:+0100
TZOFFSETTO:+0200
TZNAME:CEST
DTSTART:20230326T010000
END:DAYLIGHT
BEGIN:STANDARD
TZOFFSETFROM:+0200
TZOFFSETTO:+0100
TZNAME:CET
DTSTART:20231029T010000
END:STANDARD
END:VTIMEZONE
BEGIN:VEVENT
DTSTART;TZID=Europe/Berlin:20221105T100000
DTEND;TZID=Europe/Berlin:20221105T170000
DTSTAMP:20260421T033102
CREATED:20230817T111346Z
LAST-MODIFIED:20241029T120917Z
UID:10296-1667642400-1667667600@lfv-sachsen.de
SUMMARY:Fachtag ‚Zusammenhalt Feuerwehr‘
DESCRIPTION: \n \nIm letzten Jahr mussten wir ihn leider absagen. In diesem Jahr soll er umso besser werden:\nDer Fachtag für Deine Feuerwehr unter dem Motto: Zusammenhalt Feuerwehr!\n \nDas konkrete Programm und den Link zur Anmeldung findet ihr in Kürze hier und auf der Internetseite zum Fachtag:\nwww.zusammenhalt-feuerwehr.de/fachtag2022 (in Kürze erreichbar)
URL:https://lfv-sachsen.de/veranstaltungen-lfv/fachtag-zusammenhalt-feuerwehr/
END:VEVENT
END:VCALENDAR